BEGIN:VCALENDAR
VERSION:2.0
PRODID:-//Marion Country Club - ECPv6.15.11//NONSGML v1.0//EN
CALSCALE:GREGORIAN
METHOD:PUBLISH
X-ORIGINAL-URL:https://golfmarionks.com
X-WR-CALDESC:Events for Marion Country Club
REFRESH-INTERVAL;VALUE=DURATION:PT1H
X-Robots-Tag:noindex
X-PUBLISHED-TTL:PT1H
BEGIN:VTIMEZONE
TZID:UTC
BEGIN:STANDARD
TZOFFSETFROM:+0000
TZOFFSETTO:+0000
TZNAME:UTC
DTSTART:20250101T000000
END:STANDARD
END:VTIMEZONE
BEGIN:VEVENT
DTSTART;TZID=UTC:20260519T170000
DTEND;TZID=UTC:20260519T210000
DTSTAMP:20260424T082311
CREATED:20260304T004614Z
LAST-MODIFIED:20260304T004614Z
UID:1139-1779210000-1779224400@golfmarionks.com
SUMMARY:League Golf
DESCRIPTION:League Golf
URL:https://golfmarionks.com/event/league-golf-3/
CATEGORIES:League Golf
END:VEVENT
BEGIN:VEVENT
DTSTART;TZID=UTC:20260526T170000
DTEND;TZID=UTC:20260526T210000
DTSTAMP:20260424T082311
CREATED:20260303T025843Z
LAST-MODIFIED:20260304T004733Z
UID:1137-1779814800-1779829200@golfmarionks.com
SUMMARY:League Golf
DESCRIPTION:League Golf
URL:https://golfmarionks.com/event/league-golf/
CATEGORIES:League Golf
END:VEVENT
BEGIN:VEVENT
DTSTART;TZID=UTC:20260528T170000
DTEND;TZID=UTC:20260528T220000
DTSTAMP:20260424T082311
CREATED:20260303T031522Z
LAST-MODIFIED:20260303T031542Z
UID:1149-1779987600-1780005600@golfmarionks.com
SUMMARY:Men's Steak Night
DESCRIPTION:Donald Raymer/Max Venable
URL:https://golfmarionks.com/event/mens-steak-night-11/
CATEGORIES:Steak Nights
END:VEVENT
BEGIN:VEVENT
DTSTART;TZID=UTC:20260530T080000
DTEND;TZID=UTC:20260530T170000
DTSTAMP:20260424T082311
CREATED:20260304T005419Z
LAST-MODIFIED:20260304T005419Z
UID:1160-1780128000-1780160400@golfmarionks.com
SUMMARY:Stringer Tournament
DESCRIPTION:Stringer Tournament – 4- Person Scramble
URL:https://golfmarionks.com/event/stringer-tournament/
CATEGORIES:Golf Tournaments
END:VEVENT
BEGIN:VEVENT
DTSTART;TZID=UTC:20260602T170000
DTEND;TZID=UTC:20260602T220000
DTSTAMP:20260424T082311
CREATED:20260304T020420Z
LAST-MODIFIED:20260304T020420Z
UID:1272-1780419600-1780437600@golfmarionks.com
SUMMARY:League Golf
DESCRIPTION:
URL:https://golfmarionks.com/event/league-golf-14/
CATEGORIES:League Golf
END:VEVENT
BEGIN:VEVENT
DTSTART;TZID=UTC:20260604T170000
DTEND;TZID=UTC:20260604T220000
DTSTAMP:20260424T082311
CREATED:20260304T005616Z
LAST-MODIFIED:20260304T005616Z
UID:1164-1780592400-1780610400@golfmarionks.com
SUMMARY:Ladies Night
DESCRIPTION:Amber Powers/Misty Hett/Shawna Winter/Jennifer Frese
URL:https://golfmarionks.com/event/ladies-night-6/
CATEGORIES:Steak Nights
END:VEVENT
BEGIN:VEVENT
DTSTART;TZID=UTC:20260609T170000
DTEND;TZID=UTC:20260609T210000
DTSTAMP:20260424T082311
CREATED:20260304T005707Z
LAST-MODIFIED:20260304T005707Z
UID:1166-1781024400-1781038800@golfmarionks.com
SUMMARY:League Golf
DESCRIPTION:
URL:https://golfmarionks.com/event/league-golf-5/
CATEGORIES:League Golf
END:VEVENT
BEGIN:VEVENT
DTSTART;TZID=UTC:20260611T170000
DTEND;TZID=UTC:20260611T220000
DTSTAMP:20260424T082311
CREATED:20260304T004020Z
LAST-MODIFIED:20260304T004203Z
UID:1151-1781197200-1781215200@golfmarionks.com
SUMMARY:Men's Steak Night
DESCRIPTION:Bryant Brunner/Jacob Harper
URL:https://golfmarionks.com/event/mens-steak-night-12/
END:VEVENT
BEGIN:VEVENT
DTSTART;TZID=UTC:20260613T080000
DTEND;TZID=UTC:20260613T190000
DTSTAMP:20260424T082311
CREATED:20260304T005818Z
LAST-MODIFIED:20260304T005818Z
UID:1168-1781337600-1781377200@golfmarionks.com
SUMMARY:Gillette Tournament
DESCRIPTION:Brandon Gillette Memorial Golf Tournament – 4-Person Scramble
URL:https://golfmarionks.com/event/gillette-tournament/
CATEGORIES:Golf Tournaments
END:VEVENT
BEGIN:VEVENT
DTSTART;TZID=UTC:20260616T170000
DTEND;TZID=UTC:20260616T210000
DTSTAMP:20260424T082311
CREATED:20260304T020109Z
LAST-MODIFIED:20260304T020109Z
UID:1268-1781629200-1781643600@golfmarionks.com
SUMMARY:League Golf
DESCRIPTION:
URL:https://golfmarionks.com/event/league-golf-6/
CATEGORIES:League Golf
END:VEVENT
BEGIN:VEVENT
DTSTART;TZID=UTC:20260618T170000
DTEND;TZID=UTC:20260618T220000
DTSTAMP:20260424T082311
CREATED:20260304T005958Z
LAST-MODIFIED:20260304T010347Z
UID:1172-1781802000-1781820000@golfmarionks.com
SUMMARY:Ladies Night
DESCRIPTION:Jennica Carlson/Jessica Bredemeier/Jadyn Diepenbrock/Jodi Voth
URL:https://golfmarionks.com/event/ladies-night-7/
CATEGORIES:Steak Nights
END:VEVENT
BEGIN:VEVENT
DTSTART;TZID=UTC:20260623T170000
DTEND;TZID=UTC:20260623T210000
DTSTAMP:20260424T082311
CREATED:20260304T020255Z
LAST-MODIFIED:20260304T020255Z
UID:1270-1782234000-1782248400@golfmarionks.com
SUMMARY:League Golf
DESCRIPTION:
URL:https://golfmarionks.com/event/league-golf-7/
CATEGORIES:League Golf
END:VEVENT
BEGIN:VEVENT
DTSTART;TZID=UTC:20260625T170000
DTEND;TZID=UTC:20260625T220000
DTSTAMP:20260424T082311
CREATED:20260304T010150Z
LAST-MODIFIED:20260304T010150Z
UID:1176-1782406800-1782424800@golfmarionks.com
SUMMARY:Men's Steak Night
DESCRIPTION:Aaron Hett/Nickolas Hett
URL:https://golfmarionks.com/event/mens-steak-night-15/
CATEGORIES:Steak Nights
END:VEVENT
BEGIN:VEVENT
DTSTART;TZID=UTC:20260630T170000
DTEND;TZID=UTC:20260630T210000
DTSTAMP:20260424T082311
CREATED:20260304T010438Z
LAST-MODIFIED:20260304T010438Z
UID:1178-1782838800-1782853200@golfmarionks.com
SUMMARY:League Golf
DESCRIPTION:
URL:https://golfmarionks.com/event/league-golf-8/
CATEGORIES:League Golf
END:VEVENT
BEGIN:VEVENT
DTSTART;TZID=UTC:20260702T170000
DTEND;TZID=UTC:20260702T220000
DTSTAMP:20260424T082311
CREATED:20260304T010533Z
LAST-MODIFIED:20260304T010533Z
UID:1180-1783011600-1783029600@golfmarionks.com
SUMMARY:Ladies Night
DESCRIPTION:Marrisa Bowman/Alison Tajchman/Emily Kannady
URL:https://golfmarionks.com/event/ladies-night-8/
END:VEVENT
BEGIN:VEVENT
DTSTART;TZID=UTC:20260707T170000
DTEND;TZID=UTC:20260707T220000
DTSTAMP:20260424T082311
CREATED:20260304T010615Z
LAST-MODIFIED:20260304T010615Z
UID:1182-1783443600-1783461600@golfmarionks.com
SUMMARY:League Golf
DESCRIPTION:
URL:https://golfmarionks.com/event/league-golf-9/
CATEGORIES:League Golf
END:VEVENT
BEGIN:VEVENT
DTSTART;TZID=UTC:20260709T170000
DTEND;TZID=UTC:20260709T220000
DTSTAMP:20260424T082311
CREATED:20260304T010719Z
LAST-MODIFIED:20260304T010719Z
UID:1184-1783616400-1783634400@golfmarionks.com
SUMMARY:Men's Steak Night
DESCRIPTION:Isaac Hett/Greg Carlson
URL:https://golfmarionks.com/event/mens-steak-night-16/
CATEGORIES:Steak Nights
END:VEVENT
BEGIN:VEVENT
DTSTART;TZID=UTC:20260711T100000
DTEND;TZID=UTC:20260711T170000
DTSTAMP:20260424T082311
CREATED:20260304T010847Z
LAST-MODIFIED:20260304T021046Z
UID:1186-1783764000-1783789200@golfmarionks.com
SUMMARY:2-Person Ghost Ball Tournament
DESCRIPTION:2-Person Ghost Ball
URL:https://golfmarionks.com/event/2-person-ghost-ball-tournament-2/
CATEGORIES:Golf Tournaments
END:VEVENT
BEGIN:VEVENT
DTSTART;TZID=UTC:20260714T170000
DTEND;TZID=UTC:20260714T210000
DTSTAMP:20260424T082311
CREATED:20260304T010930Z
LAST-MODIFIED:20260304T010930Z
UID:1188-1784048400-1784062800@golfmarionks.com
SUMMARY:League Golf
DESCRIPTION:
URL:https://golfmarionks.com/event/league-golf-10/
CATEGORIES:League Golf
END:VEVENT
BEGIN:VEVENT
DTSTART;TZID=UTC:20260716T170000
DTEND;TZID=UTC:20260716T220000
DTSTAMP:20260424T082311
CREATED:20260304T011017Z
LAST-MODIFIED:20260304T011017Z
UID:1190-1784221200-1784239200@golfmarionks.com
SUMMARY:Ladies Night
DESCRIPTION:Tori Miller/Chloe Hake/Michella Klenda/Kris Burkholder
URL:https://golfmarionks.com/event/ladies-night-9/
CATEGORIES:Steak Nights
END:VEVENT
BEGIN:VEVENT
DTSTART;TZID=UTC:20260721T170000
DTEND;TZID=UTC:20260721T210000
DTSTAMP:20260424T082311
CREATED:20260304T011135Z
LAST-MODIFIED:20260304T011135Z
UID:1192-1784653200-1784667600@golfmarionks.com
SUMMARY:League Golf
DESCRIPTION:
URL:https://golfmarionks.com/event/league-golf-11/
CATEGORIES:League Golf
END:VEVENT
BEGIN:VEVENT
DTSTART;TZID=UTC:20260723T170000
DTEND;TZID=UTC:20260723T220000
DTSTAMP:20260424T082311
CREATED:20260304T011241Z
LAST-MODIFIED:20260304T011241Z
UID:1194-1784826000-1784844000@golfmarionks.com
SUMMARY:Men's Steak Night
DESCRIPTION:Todd Winter/Caleb Williams
URL:https://golfmarionks.com/event/mens-steak-night-17/
CATEGORIES:Steak Nights
END:VEVENT
BEGIN:VEVENT
DTSTART;TZID=UTC:20260725T100000
DTEND;TZID=UTC:20260725T170000
DTSTAMP:20260424T082311
CREATED:20260304T011344Z
LAST-MODIFIED:20260304T020859Z
UID:1196-1784973600-1784998800@golfmarionks.com
SUMMARY:1-Person Scramble
DESCRIPTION:1-Person Scramble
URL:https://golfmarionks.com/event/1-person-scramble/
CATEGORIES:Golf Tournaments
END:VEVENT
BEGIN:VEVENT
DTSTART;TZID=UTC:20260728T170000
DTEND;TZID=UTC:20260728T220000
DTSTAMP:20260424T082311
CREATED:20260304T011437Z
LAST-MODIFIED:20260304T011437Z
UID:1198-1785258000-1785276000@golfmarionks.com
SUMMARY:League Golf
DESCRIPTION:
URL:https://golfmarionks.com/event/league-golf-12/
CATEGORIES:League Golf
END:VEVENT
BEGIN:VEVENT
DTSTART;TZID=UTC:20260729T160000
DTEND;TZID=UTC:20260729T210000
DTSTAMP:20260424T082311
CREATED:20260304T011532Z
LAST-MODIFIED:20260304T011532Z
UID:1200-1785340800-1785358800@golfmarionks.com
SUMMARY:Work Party
DESCRIPTION:Work Party
URL:https://golfmarionks.com/event/work-party-2/
END:VEVENT
BEGIN:VEVENT
DTSTART;TZID=UTC:20260730T170000
DTEND;TZID=UTC:20260730T220000
DTSTAMP:20260424T082311
CREATED:20260304T011626Z
LAST-MODIFIED:20260304T011626Z
UID:1202-1785430800-1785448800@golfmarionks.com
SUMMARY:Ladies Night
DESCRIPTION:Shelby Schroeder/Kylie Schroeder/Kaycee Hett/Lisa Hemphill
URL:https://golfmarionks.com/event/ladies-night-10/
CATEGORIES:Steak Nights
END:VEVENT
BEGIN:VEVENT
DTSTART;TZID=UTC:20260804T170000
DTEND;TZID=UTC:20260804T220000
DTSTAMP:20260424T082311
CREATED:20260304T011753Z
LAST-MODIFIED:20260304T011753Z
UID:1204-1785862800-1785880800@golfmarionks.com
SUMMARY:League Golf
DESCRIPTION:
URL:https://golfmarionks.com/event/league-golf-13/
CATEGORIES:League Golf
END:VEVENT
BEGIN:VEVENT
DTSTART;TZID=UTC:20260806T170000
DTEND;TZID=UTC:20260806T220000
DTSTAMP:20260424T082311
CREATED:20260304T011845Z
LAST-MODIFIED:20260304T011845Z
UID:1206-1786035600-1786053600@golfmarionks.com
SUMMARY:Men's Steak Night
DESCRIPTION:Tyler Schroeder/Roger Schroeder
URL:https://golfmarionks.com/event/mens-steak-night-18/
CATEGORIES:Steak Nights
END:VEVENT
BEGIN:VEVENT
DTSTART;TZID=UTC:20260808T080000
DTEND;TZID=UTC:20260809T170000
DTSTAMP:20260424T082311
CREATED:20260304T011950Z
LAST-MODIFIED:20260304T011950Z
UID:1208-1786176000-1786294800@golfmarionks.com
SUMMARY:Club Championship
DESCRIPTION:Member Club Championship
URL:https://golfmarionks.com/event/club-championship/
CATEGORIES:Golf Tournaments
END:VEVENT
BEGIN:VEVENT
DTSTART;TZID=UTC:20260811T170000
DTEND;TZID=UTC:20260811T220000
DTSTAMP:20260424T082311
CREATED:20260304T012041Z
LAST-MODIFIED:20260304T012041Z
UID:1210-1786467600-1786485600@golfmarionks.com
SUMMARY:League Golf - Final Night
DESCRIPTION:
URL:https://golfmarionks.com/event/league-golf-final-night/
CATEGORIES:League Golf
END:VEVENT
END:VCALENDAR