BEGIN:VCALENDAR
VERSION:2.0
PRODID:-//Marion Country Club - ECPv6.15.11//NONSGML v1.0//EN
CALSCALE:GREGORIAN
METHOD:PUBLISH
X-ORIGINAL-URL:https://golfmarionks.com
X-WR-CALDESC:Events for Marion Country Club
REFRESH-INTERVAL;VALUE=DURATION:PT1H
X-Robots-Tag:noindex
X-PUBLISHED-TTL:PT1H
BEGIN:VTIMEZONE
TZID:UTC
BEGIN:STANDARD
TZOFFSETFROM:+0000
TZOFFSETTO:+0000
TZNAME:UTC
DTSTART:20250101T000000
END:STANDARD
END:VTIMEZONE
BEGIN:VEVENT
DTSTART;TZID=UTC:20260906T080000
DTEND;TZID=UTC:20260906T190000
DTSTAMP:20260424T131152
CREATED:20260304T012648Z
LAST-MODIFIED:20260304T012648Z
UID:1224-1788681600-1788721200@golfmarionks.com
SUMMARY:Couple's Tournament
DESCRIPTION:Couples Tournament
URL:https://golfmarionks.com/event/couples-tournament/
CATEGORIES:Golf Tournaments
END:VEVENT
BEGIN:VEVENT
DTSTART;TZID=UTC:20260909T170000
DTEND;TZID=UTC:20260909T210000
DTSTAMP:20260424T131152
CREATED:20260304T012814Z
LAST-MODIFIED:20260304T012814Z
UID:1226-1788973200-1788987600@golfmarionks.com
SUMMARY:Work Party
DESCRIPTION:
URL:https://golfmarionks.com/event/work-party-3/
END:VEVENT
BEGIN:VEVENT
DTSTART;TZID=UTC:20260910T140000
DTEND;TZID=UTC:20260910T200000
DTSTAMP:20260424T131152
CREATED:20260304T012929Z
LAST-MODIFIED:20260304T012929Z
UID:1228-1789048800-1789070400@golfmarionks.com
SUMMARY:2- Lady Scramble
DESCRIPTION:2-Lady Scramble
URL:https://golfmarionks.com/event/2-lady-scramble/
CATEGORIES:Golf Tournaments
END:VEVENT
BEGIN:VEVENT
DTSTART;TZID=UTC:20260912T080000
DTEND;TZID=UTC:20260913T170000
DTSTAMP:20260424T131152
CREATED:20260304T013134Z
LAST-MODIFIED:20260304T013134Z
UID:1230-1789200000-1789318800@golfmarionks.com
SUMMARY:Bruce Crofoot Cup Tournament
DESCRIPTION:Bruce Crofoot Cup Tournament – At Hillsboro
URL:https://golfmarionks.com/event/bruce-crofoot-cup-tournament/
CATEGORIES:Golf Tournaments
END:VEVENT
BEGIN:VEVENT
DTSTART;TZID=UTC:20260917T170000
DTEND;TZID=UTC:20260917T210000
DTSTAMP:20260424T131152
CREATED:20260304T013243Z
LAST-MODIFIED:20260304T013243Z
UID:1232-1789664400-1789678800@golfmarionks.com
SUMMARY:Men's Steak Night
DESCRIPTION:Mike O’Dell/Joe Bowman
URL:https://golfmarionks.com/event/mens-steak-night-21/
CATEGORIES:Steak Nights
END:VEVENT
BEGIN:VEVENT
DTSTART;TZID=UTC:20260924T170000
DTEND;TZID=UTC:20260924T220000
DTSTAMP:20260424T131152
CREATED:20260304T013348Z
LAST-MODIFIED:20260304T013348Z
UID:1234-1790269200-1790287200@golfmarionks.com
SUMMARY:Ladies Night
DESCRIPTION:Volunteer Committee
URL:https://golfmarionks.com/event/ladies-night-13/
CATEGORIES:Steak Nights
END:VEVENT
BEGIN:VEVENT
DTSTART;TZID=UTC:20260925T080000
DTEND;TZID=UTC:20260925T190000
DTSTAMP:20260424T131152
CREATED:20260304T013435Z
LAST-MODIFIED:20260304T013435Z
UID:1236-1790323200-1790362800@golfmarionks.com
SUMMARY:Old-Settlers Golf Tournament
DESCRIPTION:Old-Settlers Golf Tournament
URL:https://golfmarionks.com/event/old-settlers-golf-tournament/
CATEGORIES:Golf Tournaments
END:VEVENT
BEGIN:VEVENT
DTSTART;TZID=UTC:20260926T080000
DTEND;TZID=UTC:20260926T170000
DTSTAMP:20260424T131152
CREATED:20260305T220014Z
LAST-MODIFIED:20260305T220014Z
UID:1305-1790409600-1790442000@golfmarionks.com
SUMMARY:Club House Rented - Private Event
DESCRIPTION:Class Reunion
URL:https://golfmarionks.com/event/club-house-rented-private-event/
CATEGORIES:Club House Rented
END:VEVENT
BEGIN:VEVENT
DTSTART;TZID=UTC:20260926T170000
DTEND;TZID=UTC:20260926T230000
DTSTAMP:20260424T131152
CREATED:20260304T013531Z
LAST-MODIFIED:20260304T013531Z
UID:1238-1790442000-1790463600@golfmarionks.com
SUMMARY:Old-Setttlers Day Dance
DESCRIPTION:Old-Setttlers Day Dance
URL:https://golfmarionks.com/event/old-setttlers-day-dance/
END:VEVENT
BEGIN:VEVENT
DTSTART;TZID=UTC:20260929T080000
DTEND;TZID=UTC:20260929T170000
DTSTAMP:20260424T131152
CREATED:20260304T013616Z
LAST-MODIFIED:20260304T013616Z
UID:1240-1790668800-1790701200@golfmarionks.com
SUMMARY:Senior Stroke Play
DESCRIPTION:Senior Stroke Play
URL:https://golfmarionks.com/event/senior-stroke-play/
CATEGORIES:Golf Tournaments
END:VEVENT
BEGIN:VEVENT
DTSTART;TZID=UTC:20261001T170000
DTEND;TZID=UTC:20261001T220000
DTSTAMP:20260424T131152
CREATED:20260304T013701Z
LAST-MODIFIED:20260304T013701Z
UID:1242-1790874000-1790892000@golfmarionks.com
SUMMARY:Men's Steak Night
DESCRIPTION:Greg Bowman/Josh Tajchman
URL:https://golfmarionks.com/event/mens-steak-night-22/
CATEGORIES:Steak Nights
END:VEVENT
BEGIN:VEVENT
DTSTART;TZID=UTC:20261008T170000
DTEND;TZID=UTC:20261008T223000
DTSTAMP:20260424T131152
CREATED:20260304T013803Z
LAST-MODIFIED:20260304T013803Z
UID:1244-1791478800-1791498600@golfmarionks.com
SUMMARY:Ladies Steak Night
DESCRIPTION:Volunteer Committee
URL:https://golfmarionks.com/event/ladies-steak-night/
CATEGORIES:Steak Nights
END:VEVENT
BEGIN:VEVENT
DTSTART;TZID=UTC:20261015T170000
DTEND;TZID=UTC:20261015T220000
DTSTAMP:20260424T131152
CREATED:20260304T013919Z
LAST-MODIFIED:20260304T013919Z
UID:1246-1792083600-1792101600@golfmarionks.com
SUMMARY:Men's Steak Night
DESCRIPTION:Tim Christensen/Dylan Pippen
URL:https://golfmarionks.com/event/mens-steak-night-23/
CATEGORIES:Steak Nights
END:VEVENT
BEGIN:VEVENT
DTSTART;TZID=UTC:20261022T170000
DTEND;TZID=UTC:20261022T220000
DTSTAMP:20260424T131152
CREATED:20260304T014010Z
LAST-MODIFIED:20260304T014010Z
UID:1248-1792688400-1792706400@golfmarionks.com
SUMMARY:Ladies Night
DESCRIPTION:Volunteer Committee
URL:https://golfmarionks.com/event/ladies-night-14/
CATEGORIES:Steak Nights
END:VEVENT
BEGIN:VEVENT
DTSTART;TZID=UTC:20261029T170000
DTEND;TZID=UTC:20261029T220000
DTSTAMP:20260424T131152
CREATED:20260304T014054Z
LAST-MODIFIED:20260304T014054Z
UID:1250-1793293200-1793311200@golfmarionks.com
SUMMARY:Men's Steak Night
DESCRIPTION:Matt Powers/Mike Powers
URL:https://golfmarionks.com/event/mens-steak-night-24/
CATEGORIES:Steak Nights
END:VEVENT
BEGIN:VEVENT
DTSTART;TZID=UTC:20261105T170000
DTEND;TZID=UTC:20261105T220000
DTSTAMP:20260424T131152
CREATED:20260304T014218Z
LAST-MODIFIED:20260304T014218Z
UID:1252-1793898000-1793916000@golfmarionks.com
SUMMARY:Open Steak Night
DESCRIPTION:Casey Case/Mike Vondenkamp \nTexas Holdem
URL:https://golfmarionks.com/event/open-steak-night/
CATEGORIES:Steak Nights
END:VEVENT
BEGIN:VEVENT
DTSTART;TZID=UTC:20261119T170000
DTEND;TZID=UTC:20261119T220000
DTSTAMP:20260424T131152
CREATED:20260304T014336Z
LAST-MODIFIED:20260304T014336Z
UID:1254-1795107600-1795125600@golfmarionks.com
SUMMARY:Open Steak Night
DESCRIPTION:Jerry Smith/Lois Smith \nTexas Hold-em
URL:https://golfmarionks.com/event/open-steak-night-2/
CATEGORIES:Steak Nights
END:VEVENT
BEGIN:VEVENT
DTSTART;TZID=UTC:20261203T170000
DTEND;TZID=UTC:20261203T220000
DTSTAMP:20260424T131152
CREATED:20260304T014431Z
LAST-MODIFIED:20260304T014431Z
UID:1256-1796317200-1796335200@golfmarionks.com
SUMMARY:Open Steak Night
DESCRIPTION:Riley Hake/Bret Voth \nTexas Hold-em
URL:https://golfmarionks.com/event/open-steak-night-3/
CATEGORIES:Steak Nights
END:VEVENT
BEGIN:VEVENT
DTSTART;TZID=UTC:20261217T170000
DTEND;TZID=UTC:20261217T220000
DTSTAMP:20260424T131152
CREATED:20260304T014531Z
LAST-MODIFIED:20260304T014531Z
UID:1258-1797526800-1797544800@golfmarionks.com
SUMMARY:Open Steak Night
DESCRIPTION:Jake Bredemeier/Jessica Bredemeier \nTexas Hold-em
URL:https://golfmarionks.com/event/open-steak-night-4/
CATEGORIES:Steak Nights
END:VEVENT
BEGIN:VEVENT
DTSTART;TZID=UTC:20270107T170000
DTEND;TZID=UTC:20270107T220000
DTSTAMP:20260424T131152
CREATED:20260304T014639Z
LAST-MODIFIED:20260304T014639Z
UID:1260-1799341200-1799359200@golfmarionks.com
SUMMARY:Open Steak Night
DESCRIPTION:Jeff Mayfield/Jeff Harper’ \nTexas Hold-em
URL:https://golfmarionks.com/event/open-steak-night-5/
CATEGORIES:Steak Nights
END:VEVENT
BEGIN:VEVENT
DTSTART;TZID=UTC:20270121T080000
DTEND;TZID=UTC:20270121T170000
DTSTAMP:20260424T131152
CREATED:20260304T014938Z
LAST-MODIFIED:20260304T014938Z
UID:1262-1800518400-1800550800@golfmarionks.com
SUMMARY:Open Steak Night
DESCRIPTION:Mitch Carlson/Suzi Carlson \nTexas Hold-em
URL:https://golfmarionks.com/event/open-steak-night-6/
CATEGORIES:Steak Nights
END:VEVENT
BEGIN:VEVENT
DTSTART;TZID=UTC:20270204T170000
DTEND;TZID=UTC:20270204T220000
DTSTAMP:20260424T131152
CREATED:20260304T015039Z
LAST-MODIFIED:20260304T015039Z
UID:1264-1801760400-1801778400@golfmarionks.com
SUMMARY:Open Steak Night
DESCRIPTION:Jordan Metro/Jeffrey Richmond \nTexas Hold-em
URL:https://golfmarionks.com/event/open-steak-night-7/
CATEGORIES:Steak Nights
END:VEVENT
BEGIN:VEVENT
DTSTART;TZID=UTC:20270218T170000
DTEND;TZID=UTC:20270218T220000
DTSTAMP:20260424T131152
CREATED:20260304T015159Z
LAST-MODIFIED:20260304T015159Z
UID:1266-1802970000-1802988000@golfmarionks.com
SUMMARY:Open Steak Night
DESCRIPTION:Chase Carlson/Russ Hake \nTexas Hold-em Final Night
URL:https://golfmarionks.com/event/open-steak-night-8/
END:VEVENT
BEGIN:VEVENT
DTSTART;TZID=UTC:20270515T080000
DTEND;TZID=UTC:20270515T220000
DTSTAMP:20260424T131152
CREATED:20260303T031211Z
LAST-MODIFIED:20260303T031211Z
UID:1143-1810368000-1810418400@golfmarionks.com
SUMMARY:Club House Rented
DESCRIPTION:
URL:https://golfmarionks.com/event/club-house-rented/
CATEGORIES:Club House Rented
END:VEVENT
BEGIN:VEVENT
DTSTART;TZID=UTC:20270516T080000
DTEND;TZID=UTC:20270516T220000
DTSTAMP:20260424T131152
CREATED:20260303T031303Z
LAST-MODIFIED:20260303T031303Z
UID:1145-1810454400-1810504800@golfmarionks.com
SUMMARY:Clubhouse Rented
DESCRIPTION:
URL:https://golfmarionks.com/event/clubhouse-rented/
CATEGORIES:Club House Rented
END:VEVENT
END:VCALENDAR